﻿BEGIN:VCALENDAR
VERSION:2.0
PRODID:-//La Houssaye-Béranger - ECPv6.15.18//NONSGML v1.0//EN
CALSCALE:GREGORIAN
METHOD:PUBLISH
X-ORIGINAL-URL:https://lahoussayeberanger.fr
X-WR-CALDESC:Évènements pour La Houssaye-Béranger
REFRESH-INTERVAL;VALUE=DURATION:PT1H
X-Robots-Tag:noindex
X-PUBLISHED-TTL:PT1H
BEGIN:VTIMEZONE
TZID:Europe/Paris
BEGIN:DAYLIGHT
TZOFFSETFROM:+0100
TZOFFSETTO:+0200
TZNAME:CEST
DTSTART:20240331T010000
END:DAYLIGHT
BEGIN:STANDARD
TZOFFSETFROM:+0200
TZOFFSETTO:+0100
TZNAME:CET
DTSTART:20241027T010000
END:STANDARD
BEGIN:DAYLIGHT
TZOFFSETFROM:+0100
TZOFFSETTO:+0200
TZNAME:CEST
DTSTART:20250330T010000
END:DAYLIGHT
BEGIN:STANDARD
TZOFFSETFROM:+0200
TZOFFSETTO:+0100
TZNAME:CET
DTSTART:20251026T010000
END:STANDARD
BEGIN:DAYLIGHT
TZOFFSETFROM:+0100
TZOFFSETTO:+0200
TZNAME:CEST
DTSTART:20260329T010000
END:DAYLIGHT
BEGIN:STANDARD
TZOFFSETFROM:+0200
TZOFFSETTO:+0100
TZNAME:CET
DTSTART:20261025T010000
END:STANDARD
END:VTIMEZONE
BEGIN:VEVENT
DTSTART;TZID=Europe/Paris:20250403T190000
DTEND;TZID=Europe/Paris:20250403T200000
DTSTAMP:20260426T003201
CREATED:20250327T095910Z
LAST-MODIFIED:20250327T095910Z
UID:6007-1743706800-1743710400@lahoussayeberanger.fr
SUMMARY:Réunion de conseil municipal
DESCRIPTION:Pour votre information\, la prochaine réunion de conseil municipal aura lieu à la mairie\, le : \nJeudi 03 avril 2025 à 19h00 \nORDRE DU JOUR \n\nApprobation du procès-verbal du 20 janvier 2025\nNomination du secrétaire de séance\nApprobation du Compte Financier Unique 2024\nAffectation de Résultat de l’exploitation de l’exercice 2024\nVote des taxes locales\nAdoption des Restes à réaliser\nDélibération portant sur la fongibilité des crédits\nDélibération portant sur les subventions allouées aux associations\nRévision des tarifs communaux\nApprobation du Budget Primitif 2025\nDélibération portant sur la défense incendie chemin de la Tabourette – Demande de subvention\nDevis autolaveuse\nQuestions diverses
URL:https://lahoussayeberanger.fr/event/reunion-de-conseil-municipal-21/
ATTACH;FMTTYPE=image/jpeg:https://lahoussayeberanger.fr/wp-content/uploads/image-conseil-municipal-400x291-1-300x150-1.jpg
END:VEVENT
END:VCALENDAR