﻿BEGIN:VCALENDAR
VERSION:2.0
PRODID:-//La Houssaye-Béranger - ECPv6.15.18//NONSGML v1.0//EN
CALSCALE:GREGORIAN
METHOD:PUBLISH
X-ORIGINAL-URL:https://lahoussayeberanger.fr
X-WR-CALDESC:Évènements pour La Houssaye-Béranger
REFRESH-INTERVAL;VALUE=DURATION:PT1H
X-Robots-Tag:noindex
X-PUBLISHED-TTL:PT1H
BEGIN:VTIMEZONE
TZID:Europe/Paris
BEGIN:DAYLIGHT
TZOFFSETFROM:+0100
TZOFFSETTO:+0200
TZNAME:CEST
DTSTART:20240331T010000
END:DAYLIGHT
BEGIN:STANDARD
TZOFFSETFROM:+0200
TZOFFSETTO:+0100
TZNAME:CET
DTSTART:20241027T010000
END:STANDARD
BEGIN:DAYLIGHT
TZOFFSETFROM:+0100
TZOFFSETTO:+0200
TZNAME:CEST
DTSTART:20250330T010000
END:DAYLIGHT
BEGIN:STANDARD
TZOFFSETFROM:+0200
TZOFFSETTO:+0100
TZNAME:CET
DTSTART:20251026T010000
END:STANDARD
BEGIN:DAYLIGHT
TZOFFSETFROM:+0100
TZOFFSETTO:+0200
TZNAME:CEST
DTSTART:20260329T010000
END:DAYLIGHT
BEGIN:STANDARD
TZOFFSETFROM:+0200
TZOFFSETTO:+0100
TZNAME:CET
DTSTART:20261025T010000
END:STANDARD
END:VTIMEZONE
BEGIN:VEVENT
DTSTART;TZID=Europe/Paris:20250619T080000
DTEND;TZID=Europe/Paris:20250619T170000
DTSTAMP:20260425T225329
CREATED:20250619T163343Z
LAST-MODIFIED:20250619T163343Z
UID:6048-1750320000-1750352400@lahoussayeberanger.fr
SUMMARY:Réunion de conseil municipal
DESCRIPTION:Pour votre information\, la prochaine réunion de conseil municipal aura lieu à la mairie\, le : \nLundi 23 juin 2025 à 19h00 \nORDRE DU JOUR \n\nApprobation du procès-verbal du 03 avril 2025\nNomination du secrétaire de séance\nDélibération portant sur le transfert de la mairie vers un nouveau local\nDélibération portant sur l’octroi d’une subvention supplémentaire 2025 à l’association vacances aux villages\nDélibération portant sur les modalités de remboursement de la subvention versée au SIAEPA FHG en 2023\nDélibération portant sur la taxe d’aménagement\nDélibération portant sur la demande de subvention du Fonds Départemental d’Aide aux jeunes\nChangement d’horaire d’ouverture de la mairie au public\nDispositif d’avertissement à la population\nDispositif de surveillance\nQuestions diverses\n\n 
URL:https://lahoussayeberanger.fr/event/reunion-de-conseil-municipal-22/
ATTACH;FMTTYPE=image/jpeg:https://lahoussayeberanger.fr/wp-content/uploads/image-conseil-municipal-400x291-1-300x150-1.jpg
END:VEVENT
END:VCALENDAR